BEGIN:VCALENDAR
VERSION:2.0
PRODID:-//ChamberMaster//Event Calendar 2.0//EN
METHOD:PUBLISH
X-PUBLISHED-TTL:P3D
REFRESH-INTERVAL:P3D
CALSCALE:GREGORIAN
BEGIN:VEVENT
DTSTART;VALUE=DATE:20151128
DTEND;VALUE=DATE:20151129
TRANSP:TRANSPARENT
X-MICROSOFT-CDO-ALLDAYEVENT:TRUE
SUMMARY:Small Business Saturday
DESCRIPTION:Together with American Express and the Association of Chamber of Commerce Executives\, the Blairsville-Union County Chamber of Commerce would like to invite you to become a Neighborhood Champion for Small Business Saturday.\n\n\n\nCelebrated on the Saturday after Thanksgiving\, November 28th\, this day helps business owners with their most pressing need getting more customers and doing more business. The Chamber will be promoting this free event and all you need to do is register below by November 8th.\n\nFree promotional materials will be available 2 weeks prior to the event to help you personalized to your business. Get on board and let's shop local!
X-ALT-DESC;FMTTYPE=text/html:<span><span _mce_style="text-align: center\;" align="center" style="text-align: center\;"><span>Together with American Express and the Association of Chamber of Commerce Executives\, the Blairsville-Union County Chamber of Commerce would like to invite you to become a Neighborhood Champion for Small Business Saturday.<br />\n<br />\nCelebrated on the Saturday after Thanksgiving\, November 28th\, this day helps business owners with their most pressing need getting more customers and doing more business. The Chamber will be promoting this free event and all you need to do is register below by November 8th.<br />\nFree promotional materials will be available 2 weeks prior to the event to help you personalized to your business. Get on board and let&#39\;s shop local! </span></span></span><br />\n&nbsp\;
LOCATION:Participating business
UID:e.256.44196
SEQUENCE:3
DTSTAMP:20260423T085346Z
URL:https://members.visitblairsvillega.com/events/details/small-business-saturday-11-28-2015-44196
END:VEVENT

END:VCALENDAR
