BEGIN:VCALENDAR
VERSION:2.0
PRODID:-//ChamberMaster//Event Calendar 2.0//EN
METHOD:PUBLISH
X-PUBLISHED-TTL:P3D
REFRESH-INTERVAL:P3D
CALSCALE:GREGORIAN
BEGIN:VEVENT
DTSTART:20151128T170000Z
DTEND:20151128T220000Z
X-MICROSOFT-CDO-ALLDAYEVENT:FALSE
SUMMARY:Small Business Saturday at Hightower Creek Vineyards
DESCRIPTION:We're so thankful for all of you for your support. On Saturday\, November 28 we'll be participating in Small Business Saturday\, a day to celebrate you\, the customers who make our small business possible. Just mention this post to receive 10% off your purchase! \n\n\n\nIn addition to this special discount\, we'll also be kicking off Soup Saturdays. Join us each Saturday through the winter for a complimentary cup of soup with your glass of wine or tasting.
X-ALT-DESC;FMTTYPE=text/html:We&#39\;re so thankful for all of you for your support. On Saturday\, November 28 we&#39\;ll be participating in Small Business Saturday\, a day to celebrate you\, the customers who make our small business possible. Just mention this post to receive 10% off your purchase!&nbsp\;<br />\n<br />\nIn addition to this special discount\, we&#39\;ll also be kicking off Soup Saturdays. Join us each Saturday through the winter for a complimentary cup of soup with your glass of wine or tasting.
LOCATION:7150 Canaan Drive Hiawassee\, GA 30546
UID:e.256.45023
SEQUENCE:3
DTSTAMP:20260423T085805Z
URL:https://members.visitblairsvillega.com/events/details/small-business-saturday-at-hightower-creek-vineyards-11-28-2015-45023
END:VEVENT

END:VCALENDAR
