BEGIN:VCALENDAR
VERSION:2.0
PRODID:-//ChamberMaster//Event Calendar 2.0//EN
METHOD:PUBLISH
X-PUBLISHED-TTL:P3D
REFRESH-INTERVAL:P3D
CALSCALE:GREGORIAN
BEGIN:VEVENT
DTSTART:20140725T160000Z
DTEND:20140727T160000Z
X-MICROSOFT-CDO-ALLDAYEVENT:FALSE
SUMMARY:Smoke on the Mountain
DESCRIPTION:Licklog Players Production of the musical " Smoke on the Mountain. " Show dates are July 25\,26 &\,27th and August 1\,2\,&3rd Friday and Saturday show are at 8pm and Sunday matinee is at 2.30pm. Box office is open from 10am-2pm Monday-Friday. Tickets are $15 foe adults\, $13 for senior and $8 for students. For more information and tickets call 828-389-8632 or e-mail Licklogplayers@aol.com. Licklog Players\, Inc 828-389-8632 www.licklogplayers.org
X-ALT-DESC;FMTTYPE=text/html:Licklog Players Production of the musical &quot\; Smoke on the Mountain. &quot\; Show dates are July 25\,26 &amp\;\,27th and August 1\,2\,&amp\;3rd Friday and Saturday show are at 8pm and Sunday matinee is at 2.30pm. Box office is open from 10am-2pm Monday-Friday. Tickets are $15 foe adults\, $13 for senior and $8 for students. For more information and tickets call 828-389-8632 or e-mail Licklogplayers@aol.com. Licklog Players\, Inc 828-389-8632 www.licklogplayers.org
LOCATION:Licklog Players Theater Hayesville\, NC
UID:e.256.25359
SEQUENCE:3
DTSTAMP:20260424T091810Z
URL:https://members.visitblairsvillega.com/events/details/smoke-on-the-mountain-07-25-2014-25359
END:VEVENT

END:VCALENDAR
