BEGIN:VCALENDAR
VERSION:2.0
PRODID:-//ChamberMaster//Event Calendar 2.0//EN
METHOD:PUBLISH
X-PUBLISHED-TTL:P3D
REFRESH-INTERVAL:P3D
CALSCALE:GREGORIAN
BEGIN:VEVENT
DTSTART:20171005T233000Z
DTEND:20171006T013000Z
X-MICROSOFT-CDO-ALLDAYEVENT:FALSE
SUMMARY:Smoke On the Mountain
DESCRIPTION:Set in the 1930s\, this musical tale introduces the singing Sanders family\, who perform their traditional and bluegrass gospel songs for the members of the Mount Pleasant Baptist Church in celebration of their new electric light bulb. Consisting of almost thirty gospel tunes and the rich stories of the Sanders family's history on the gospel circuit\, Smoke on the Mountain is full of laughs and toe-tapping bluegrass as the characters and the audience realize with a little bit of faith and a whole lot of heart\, anything is possible. A full two-act theatrical presentation\, featuring Mountain Faith as the Sanders Family Band.
X-ALT-DESC;FMTTYPE=text/html:Set in the 1930s\, this musical tale introduces the singing Sanders family\, who perform their traditional and bluegrass gospel songs for the members of the Mount Pleasant Baptist Church in celebration of their new electric light bulb. Consisting of almost thirty gospel tunes and the rich stories of the Sanders family&#39\;s history on the gospel circuit\, Smoke on the Mountain is full of laughs and toe-tapping bluegrass as the characters and the audience realize with a little bit of faith and a whole lot of heart\, anything is possible. A full two-act theatrical presentation\, featuring Mountain Faith as the Sanders Family Band.
LOCATION:Smoky Mountain Center for the Performing Arts 1028 Georgia Road Franklin\, NC 28734
UID:e.256.69233
SEQUENCE:3
DTSTAMP:20260419T174215Z
URL:https://members.visitblairsvillega.com/events/details/smoke-on-the-mountain-69233
END:VEVENT

END:VCALENDAR
