BEGIN:VCALENDAR
VERSION:2.0
PRODID:-//ChamberMaster//Event Calendar 2.0//EN
METHOD:PUBLISH
X-PUBLISHED-TTL:P3D
REFRESH-INTERVAL:P3D
CALSCALE:GREGORIAN
BEGIN:VEVENT
DTSTART;VALUE=DATE:20140719
DTEND;VALUE=DATE:20140720
TRANSP:TRANSPARENT
X-MICROSOFT-CDO-ALLDAYEVENT:TRUE
SUMMARY:Smokey the Bear & U.S.F.S. Professionals at Opening of the Disney Movie "Planes"
DESCRIPTION:Smokey the Bear and the United States Forestry Service will be on hand Saturday July 19th to usher in the new Disney film\, Planes: Fire & Rescue. Movie goers will have an opportunity to meet Smokey the Bear\, talk with fire rescue professionals\, see equipment and learn about real heroes! Smokey and the USFS will be in the lobby of Fieldstone Cinemas 6 for the first two showing of the film. Please call 89-Movie or check our website www.fieldstonecinemas6.com for show times.
X-ALT-DESC;FMTTYPE=text/html:Smokey the Bear and the United States Forestry Service will be on hand Saturday July 19th to usher in the new Disney film\, Planes: Fire &amp\; Rescue. Movie goers will have an opportunity to meet Smokey the Bear\, talk with fire rescue professionals\, see equipment and learn about real heroes! Smokey and the USFS will be in the lobby of Fieldstone Cinemas 6 for the first two showing of the film. Please call 89-Movie or check our website www.fieldstonecinemas6.com for show times.
LOCATION:Fieldstone Cinemas 6 1159 Jack Dayton Circle Young Harris\, GA
UID:e.256.25374
SEQUENCE:3
DTSTAMP:20260424T092754Z
URL:https://members.visitblairsvillega.com/events/details/smokey-the-bear-u-s-f-s-professionals-at-opening-of-the-disney-movie-planes-07-19-2014-25374
END:VEVENT

END:VCALENDAR
