BEGIN:VCALENDAR
VERSION:2.0
PRODID:-//ChamberMaster//Event Calendar 2.0//EN
METHOD:PUBLISH
X-PUBLISHED-TTL:P3D
REFRESH-INTERVAL:P3D
CALSCALE:GREGORIAN
BEGIN:VEVENT
DTSTART:20150602T223000Z
DTEND:20150603T000000Z
X-MICROSOFT-CDO-ALLDAYEVENT:FALSE
SUMMARY:Smokie Mountain Melodies
DESCRIPTION:Come sing with us...
X-ALT-DESC;FMTTYPE=text/html:Come sing with us...&nbsp\;&nbsp\;&nbsp\;&nbsp\;
LOCATION:First United Methodist Church
UID:e.256.36721
SEQUENCE:3
DTSTAMP:20260423T182403Z
URL:https://members.visitblairsvillega.com/events/details/smokie-mountain-melodies-06-02-2015-36721
END:VEVENT

END:VCALENDAR
