BEGIN:VCALENDAR
VERSION:2.0
PRODID:-//ChamberMaster//Event Calendar 2.0//EN
METHOD:PUBLISH
X-PUBLISHED-TTL:P3D
REFRESH-INTERVAL:P3D
CALSCALE:GREGORIAN
BEGIN:VEVENT
DTSTART:20151010T190000Z
DTEND:20151010T210000Z
X-MICROSOFT-CDO-ALLDAYEVENT:FALSE
SUMMARY:Smokie Mountain Melodies
DESCRIPTION:Smokie Mountain Melodies is a Ladies Barbershop Chorus and they are presenting The Dream Goes On.
X-ALT-DESC;FMTTYPE=text/html:Smokie Mountain Melodies is a Ladies Barbershop Chorus and they are presenting <strong>The Dream Goes On</strong>.
LOCATION:Young Harris College in the Glenn Auditorium
UID:e.256.43949
SEQUENCE:3
DTSTAMP:20260423T120937Z
URL:https://members.visitblairsvillega.com/events/details/smokie-mountain-melodies-10-10-2015-43949
END:VEVENT

END:VCALENDAR
