BEGIN:VCALENDAR
VERSION:2.0
PRODID:-//ChamberMaster//Event Calendar 2.0//EN
METHOD:PUBLISH
X-PUBLISHED-TTL:P3D
REFRESH-INTERVAL:P3D
CALSCALE:GREGORIAN
BEGIN:VEVENT
DTSTART:20141130T003000Z
DTEND:20141130T020000Z
X-MICROSOFT-CDO-ALLDAYEVENT:FALSE
SUMMARY:Smoky Mountain Christmas Choir
DESCRIPTION:On this night of joy local choirs perform their favorite arrangements. Join us to kick off your Christmas season!
X-ALT-DESC;FMTTYPE=text/html:On this night of joy local choirs perform their favorite arrangements. Join us to kick off your Christmas season!
LOCATION:Smoky Mountain Center for the Performing Arts 1028 Georgia Road Franklin\, NC 28734
UID:e.256.27841
SEQUENCE:3
DTSTAMP:20260424T033821Z
URL:https://members.visitblairsvillega.com/events/details/smoky-mountain-christmas-choir-11-29-2014-27841
END:VEVENT

END:VCALENDAR
