BEGIN:VCALENDAR
VERSION:2.0
PRODID:-//ChamberMaster//Event Calendar 2.0//EN
METHOD:PUBLISH
X-PUBLISHED-TTL:P3D
REFRESH-INTERVAL:P3D
CALSCALE:GREGORIAN
BEGIN:VEVENT
DTSTART:20150919T210000Z
DTEND:20150920T010000Z
X-MICROSOFT-CDO-ALLDAYEVENT:FALSE
SUMMARY:Sock Hop
DESCRIPTION:Sock Hop\nTickets on sale now for ONLY $10 each at the front counter. Ticket entitles holder to one ice cream sundae or root beer float. Prizes will be awarded during the following events: One game of bowling\, horseshoes\, corn hole\, costume (50-60's theme)\, and dance contest. Stick around for cosmic bowling which starts at 9 pm.
X-ALT-DESC;FMTTYPE=text/html:<h2 style="font-style: italic\;">Sock Hop</h2>\nTickets on sale now for <span style="font-family: comic sans ms\;">ONLY</span> $10 each at the front counter. Ticket entitles holder to one ice cream sundae or root beer float. Prizes will be awarded during the following events: One game of bowling\, horseshoes\, corn hole\, costume (50-60&#39\;s theme)\, and dance contest. Stick around for cosmic bowling which starts at 9 pm.
LOCATION:Galaxy Bowling
UID:e.256.41393
SEQUENCE:3
DTSTAMP:20260423T121548Z
URL:https://members.visitblairsvillega.com/events/details/sock-hop-09-19-2015-41393
END:VEVENT

END:VCALENDAR
