BEGIN:VCALENDAR
VERSION:2.0
PRODID:-//ChamberMaster//Event Calendar 2.0//EN
METHOD:PUBLISH
X-PUBLISHED-TTL:P3D
REFRESH-INTERVAL:P3D
CALSCALE:GREGORIAN
BEGIN:VEVENT
DTSTART:20170821T170000Z
DTEND:20170821T200000Z
X-MICROSOFT-CDO-ALLDAYEVENT:FALSE
SUMMARY:Solar Eclipse Block Party and Farm to Table Luncheon
DESCRIPTION:Come Experience a Once-in-a-Lifetime Viewing of a Total Solar Eclipse in Blairsville\, GA!\n\nEnjoy a delicious Farm to Table lunch (bring your lawn chairs to tailgate or limited inside seating) while you prepare to witness this natural phenomenon!
X-ALT-DESC;FMTTYPE=text/html:<span style="color: rgb(75\, 79\, 86)\; font-family: Helvetica\, Arial\, sans-serif\; font-size: 14px\; background-color: rgb(255\, 255\, 255)\;">Come Experience a Once-in-a-Lifetime Viewing of a Total Solar Eclipse in Blairsville\, GA!</span><br style="color: rgb(75\, 79\, 86)\; font-family: Helvetica\, Arial\, sans-serif\; font-size: 14px\; background-color: rgb(255\, 255\, 255)\;" />\n<span style="color: rgb(75\, 79\, 86)\; font-family: Helvetica\, Arial\, sans-serif\; font-size: 14px\; background-color: rgb(255\, 255\, 255)\;">Enjoy a delicious Farm to Table lunch (bring your lawn chairs to tailgate or limited inside seating) while you prepare to witness this natural phenomenon!</span>
LOCATION:The Sawmill Place
UID:e.256.75380
SEQUENCE:3
DTSTAMP:20260419T194753Z
URL:https://members.visitblairsvillega.com/events/details/solar-eclipse-block-party-and-farm-to-table-luncheon-75380
END:VEVENT

END:VCALENDAR
