BEGIN:VCALENDAR
VERSION:2.0
PRODID:-//ChamberMaster//Event Calendar 2.0//EN
METHOD:PUBLISH
X-PUBLISHED-TTL:P3D
REFRESH-INTERVAL:P3D
CALSCALE:GREGORIAN
BEGIN:VEVENT
DTSTART:20170821T150000Z
DTEND:20170822T010000Z
X-MICROSOFT-CDO-ALLDAYEVENT:FALSE
SUMMARY:Solar Eclipse Party at Armadillo Grill
DESCRIPTION:Come celebrate the celestial event of a generation! Armadillo Grill is getting in on the Solar Eclipse "Path of Totality" party too! We'll have unique specials for food and drinks\, live music...lots of parking space and a patio with a great view! Come on out and party with us! A quick note\, we will not be serving food and drinks between 1:30 pm and 2:45pm to allow our staff to view this event as well. Otherwise we're open the usual 11am to 9pm!
X-ALT-DESC;FMTTYPE=text/html:<span style="color: rgb(75\, 79\, 86)\; font-family: Helvetica\, Arial\, sans-serif\; font-size: 14px\;">Come celebrate the celestial event of a generation! Armadillo Grill is getting in on the Solar Eclipse &quot\;Path of Totality&quot\; party too! We&#39\;ll have unique specials for food and drinks\, live music...lots of parking space and a patio with a great view! Come on out and party with us! A quick note\, we will not be serving food and drinks between 1:30 pm and 2:45pm to allow our staff to view this event as well. Otherwise we&#39\;re open the usual 11am to 9pm!</span>
LOCATION:Armadillo Grill 24 Scott Dr.\, Blairsville
UID:e.256.75605
SEQUENCE:3
DTSTAMP:20260419T194530Z
URL:https://members.visitblairsvillega.com/events/details/solar-eclipse-party-at-armadillo-grill-75605
END:VEVENT

END:VCALENDAR
