BEGIN:VCALENDAR
VERSION:2.0
PRODID:-//ChamberMaster//Event Calendar 2.0//EN
METHOD:PUBLISH
X-PUBLISHED-TTL:P3D
REFRESH-INTERVAL:P3D
CALSCALE:GREGORIAN
BEGIN:VEVENT
DTSTART:20170821T160000Z
DTEND:20170821T200000Z
X-MICROSOFT-CDO-ALLDAYEVENT:FALSE
SUMMARY:Solar Eclipse Viewing Party at Mountain Crossings
DESCRIPTION:On Monday August 21st\, a total Solar Eclipse will be taking place in the early afternoon and you better believe that this is one of those incredibly rare events in life that you've just got to take advantage of! Come join us up in the mountains for a viewing party of this unique show by nature. The eclipse begins at just about 1pm as the moon begins to creep across the sky at the exact spot the sun is sitting. But around 2:30pm the sun will be full eclipsed by the moon for around two whole minutes! This awesome occurrence isn't visible just anywhere\, and particularly not the total eclipse. Come hang out at Mountain Crossings where you know you will have an incredible view of this total eclipse!\n\n\n\nWe will be cooking up hot dogs on the grill for lunch and have fun events for kids like face painting. There will be music and a excellent view of for the Eclipse. We will even have special glasses to safely view the solar eclipse as it is happening! Be sure to pick up a commemorative sticker or mug while supplies last!!
X-ALT-DESC;FMTTYPE=text/html:<span style="background-color: rgb(255\, 255\, 255)\;"><font color="#4b4f56" face="Helvetica\, Arial\, sans-serif"><span style="font-size: 14px\;">On Monday August 21st\, a total Solar Eclipse will be taking place in the early afternoon and you better believe&nbsp\;that this is one of those incredibly rare events in life that you&#39\;ve just got to take advantage of! Come join us up in the mountains for a viewing party of this unique show by nature. The eclipse begins at just about 1pm as the moon begins to creep across the sky at the exact spot the sun is sitting. But around 2:30pm the sun will be full eclipsed by the moon for around two whole minutes! This awesome occurrence&nbsp\;isn&#39\;t visible&nbsp\;just anywhere\, and particularly not the total eclipse. Come hang out at Mountain Crossings where you know you will have an incredible view of this total eclipse!</span></font></span><br style="color: rgb(75\, 79\, 86)\; font-family: Helvetica\, Arial\, sans-serif\; font-size: 14px\; background-color: rgb(255\, 255\, 255)\;" />\n<br style="color: rgb(75\, 79\, 86)\; font-family: Helvetica\, Arial\, sans-serif\; font-size: 14px\; background-color: rgb(255\, 255\, 255)\;" />\n<span style="color: rgb(75\, 79\, 86)\; font-family: Helvetica\, Arial\, sans-serif\; font-size: 14px\; background-color: rgb(255\, 255\, 255)\;">We will be cooking up hot dogs on the grill for lunch and have fun events for kids like face painting. There will be music and a excellent view of for the Eclipse. We will even have special glasses to safely view the solar eclipse as it is happening! Be sure to pick up a commemorative sticker or mug while supplies last!!</span>
LOCATION:Mountain Crossings at Walasi-yi
UID:e.256.75465
SEQUENCE:3
DTSTAMP:20260419T194452Z
URL:https://members.visitblairsvillega.com/events/details/solar-eclipse-viewing-party-at-mountain-crossings-75465
END:VEVENT

END:VCALENDAR
