BEGIN:VCALENDAR
VERSION:2.0
PRODID:-//ChamberMaster//Event Calendar 2.0//EN
METHOD:PUBLISH
X-PUBLISHED-TTL:P3D
REFRESH-INTERVAL:P3D
CALSCALE:GREGORIAN
BEGIN:VEVENT
DTSTART:20170128T200000Z
DTEND:20170128T220000Z
X-MICROSOFT-CDO-ALLDAYEVENT:FALSE
SUMMARY:Songs & Stories
DESCRIPTION:SONGS & STORIES | ANDY ORFUTT IRWIN Legendary storyteller\, showman and humorist\, Andy Orfutt Irwin will be performing at the January 28\, 2017 Songs & Stories hosted by The Craddock Center in Cherry Log\, Ga. This is a free event at The Craddock Center\, so bring a friend and arrive early! Seating is limited and doors open at 3 p.m. to the divine voice of Hannah From. Come celebrate a mountain tradition of Appalachian storytelling and music with The Craddock Center. Please visit the craddockcenter.org for more information and directions or contact us at 706-632-1772.
X-ALT-DESC;FMTTYPE=text/html:SONGS &amp\; STORIES | ANDY ORFUTT IRWIN Legendary storyteller\, showman and humorist\, Andy Orfutt Irwin will be performing at the January 28\, 2017 Songs &amp\; Stories hosted by The Craddock Center in Cherry Log\, Ga. This is a free event at The Craddock Center\, so bring a friend and arrive early! Seating is limited and doors open at 3 p.m. to the divine voice of Hannah From. Come celebrate a mountain tradition of Appalachian storytelling and music with The Craddock Center. Please visit the craddockcenter.org for more information and directions or contact us at 706-632-1772.
LOCATION:The Craddock Center 186 Fred Craddock Drive Cherry Log\, GA 30522
UID:e.256.63233
SEQUENCE:3
DTSTAMP:20260420T074832Z
URL:https://members.visitblairsvillega.com/events/details/songs-stories-63233
END:VEVENT

END:VCALENDAR
