BEGIN:VCALENDAR
VERSION:2.0
PRODID:-//ChamberMaster//Event Calendar 2.0//EN
METHOD:PUBLISH
X-PUBLISHED-TTL:P3D
REFRESH-INTERVAL:P3D
CALSCALE:GREGORIAN
BEGIN:VEVENT
DTSTART:20160130T210000Z
DTEND:20160130T223000Z
X-MICROSOFT-CDO-ALLDAYEVENT:FALSE
SUMMARY:Songs & Stories\, A Tribute to Helen Lewis
DESCRIPTION:What Am I Supposed to Do Now? A Tribute to Helen Lewi\,s Stories by Brenda Bynum | Songs by Don Saliers Saturday\, January 30th\, 2016 at 4:00 PM | The Craddock Center Doors open at 3:00 PM
X-ALT-DESC;FMTTYPE=text/html:What Am I Supposed to Do Now? A Tribute to Helen Lewi\,s Stories by Brenda Bynum | Songs by Don Saliers Saturday\, January 30th\, 2016 at 4:00 PM | The Craddock Center Doors open at 3:00 PM
LOCATION:The Craddock Center 186 Fred Craddock Drive Cherry Log\, GA 30522
UID:e.256.48254
SEQUENCE:3
DTSTAMP:20260421T060500Z
URL:https://members.visitblairsvillega.com/events/details/songs-stories-a-tribute-to-helen-lewis-01-30-2016-48254
END:VEVENT

END:VCALENDAR
