BEGIN:VCALENDAR
VERSION:2.0
PRODID:-//ChamberMaster//Event Calendar 2.0//EN
METHOD:PUBLISH
X-PUBLISHED-TTL:P3D
REFRESH-INTERVAL:P3D
CALSCALE:GREGORIAN
BEGIN:VEVENT
DTSTART:20161013T223000Z
DTEND:20161014T004500Z
X-MICROSOFT-CDO-ALLDAYEVENT:FALSE
SUMMARY:Sons of Jubal
DESCRIPTION:Sons of Jubal is a male chorus composed of ministers of music and others who serve in music ministries of Georgia Baptist churches. Committed to worship enrichment and gospel proclamation\, Sons of Jubal presents a series of concerts in Georgia Baptist churches annually. The concert program is widely varied in content\, including the Jubal Brass\, the Jubal Handbells\, Jubal Tones and congregational participation. In addition\, Sons of Jubal participates in mission endeavors throughout the state\, nation and world.
X-ALT-DESC;FMTTYPE=text/html:Sons of Jubal is a male chorus composed of ministers of music and others who serve in music ministries of Georgia Baptist churches. Committed to worship enrichment and gospel proclamation\, Sons of Jubal presents a series of concerts in Georgia Baptist churches annually. The concert program is widely varied in content\, including the Jubal Brass\, the Jubal Handbells\, Jubal Tones and congregational participation. In addition\, Sons of Jubal participates in mission endeavors throughout the state\, nation and world.
LOCATION:First Baptist Church of Blairsville
UID:e.256.59223
SEQUENCE:3
DTSTAMP:20260420T130900Z
URL:https://members.visitblairsvillega.com/events/details/sons-of-jubal-59223
END:VEVENT

END:VCALENDAR
