BEGIN:VCALENDAR
VERSION:2.0
PRODID:-//ChamberMaster//Event Calendar 2.0//EN
METHOD:PUBLISH
X-PUBLISHED-TTL:P3D
REFRESH-INTERVAL:P3D
CALSCALE:GREGORIAN
BEGIN:VEVENT
DTSTART:20171014T150000Z
DTEND:20171014T160000Z
X-MICROSOFT-CDO-ALLDAYEVENT:FALSE
SUMMARY:Sorghum Festival Parade
DESCRIPTION:Hundreds of people line the streets to see the floats\, bands and other crowd pleasers.   There will be a new parade route this year.  Blairsville Sorghum Festival Parade Saturday October 14th starting @ 11:00 am rain or shine!! We will be giving out prizes for 1st\, 2nd and 3rd place winners for parade floats this year!!!! The 2017 Parade theme is "WE SALUTE OUR UNION COUNTY FARMERS." If you are interested in being a part of the parade just show up 9:00 a.m Saturday\, October 14th at the Old Middle School gym with your floats ready to be judged by 9:30. Please note that our Parade route has changed! Please share to help us to get the word out that we will NO LONGER BE GOING DOWN THE FOUR LANE!! The new route will be the same except we will NOT turn on Earnest Street \, but will continue past First Baptist Church and then turn Left\, going past UC Library\, The Old Nursing Home\, and Cochran Funeral Home. We will the continue on to Kimsey Street and back to the old Middle School Gym.
X-ALT-DESC;FMTTYPE=text/html:Hundreds of people line the streets to see the floats\, bands and other crowd pleasers. &nbsp\; There will be a new parade route this year. &nbsp\;<span style="color: rgb(102\, 102\, 102)\; font-family: Helvetica\, Arial\, sans-serif\; font-size: 12px\; background-color: rgb(255\, 255\, 255)\;">Blairsville Sorghum Festival Parade Saturday October 14th starting @ 11:00 am rain or shine!! We will be giving out prizes for</span><span class="text_exposed_show" style="display: inline\; font-family: Helvetica\, Arial\, sans-serif\; color: rgb(102\, 102\, 102)\; font-size: 12px\; background-color: rgb(255\, 255\, 255)\;">&nbsp\;1st\, 2nd and 3rd place winners for parade floats this year!!!! The 2017 Parade theme is &quot\;WE SALUTE OUR UNION COUNTY FARMERS.&quot\; If you are interested in being a part of the parade just show up 9:00 a.m Saturday\, October 14th at the Old Middle School gym with your floats ready to be judged by 9:30. Please note that our Parade route has changed! Please share to help us to get the word out that we will<strong> NO LONGER BE GOING DOWN THE FOUR LANE</strong>!! The new route will be the same except we will <strong>NOT</strong> turn on Earnest Street \, but will continue past First Baptist Church and then turn Left\, going past UC Library\, The Old Nursing Home\, and Cochran Funeral Home. We will the continue on to Kimsey Street and back to the old Middle School Gym.</span>
LOCATION:
UID:e.256.76006
SEQUENCE:3
DTSTAMP:20260419T175417Z
URL:https://members.visitblairsvillega.com/events/details/sorghum-festival-parade-76006
END:VEVENT

END:VCALENDAR
