BEGIN:VCALENDAR
VERSION:2.0
PRODID:-//ChamberMaster//Event Calendar 2.0//EN
METHOD:PUBLISH
X-PUBLISHED-TTL:P3D
REFRESH-INTERVAL:P3D
CALSCALE:GREGORIAN
BEGIN:VEVENT
DTSTART:20140830T150000Z
DTEND:20140830T210000Z
X-MICROSOFT-CDO-ALLDAYEVENT:FALSE
SUMMARY:SOUP KITCHEN SATURDAYS
DESCRIPTION:SOUP KITCHEN SATURDAYS Every Saturday from 11 a.m. to 5 p.m.\n\nCome and enjoy soup or sandwiches along with a glass of wine while looking out over our beautiful vineyards on the deck.
X-ALT-DESC;FMTTYPE=text/html:SOUP KITCHEN SATURDAYS Every Saturday from 11 a.m. to 5 p.m.<br />\nCome and enjoy soup or sandwiches along with a glass of wine while looking out over our beautiful vineyards on the deck. 
LOCATION:Crane Creek Vineyards 916 Crane Creek Road Young Harris\, GA 30582
UID:e.256.22223
SEQUENCE:3
DTSTAMP:20260424T073542Z
URL:https://members.visitblairsvillega.com/events/details/soup-kitchen-saturdays-08-30-2014-22223
END:VEVENT

END:VCALENDAR
