BEGIN:VCALENDAR
VERSION:2.0
PRODID:-//ChamberMaster//Event Calendar 2.0//EN
METHOD:PUBLISH
X-PUBLISHED-TTL:P3D
REFRESH-INTERVAL:P3D
CALSCALE:GREGORIAN
BEGIN:VEVENT
DTSTART:20150103T170000Z
DTEND:20150103T220000Z
X-MICROSOFT-CDO-ALLDAYEVENT:FALSE
SUMMARY:Soup Saturday
DESCRIPTION:Hightower Creek Vineyards invites you to join us for complimentary soup with the purchase of a tasting or a glass of wine.
X-ALT-DESC;FMTTYPE=text/html:Hightower Creek Vineyards invites you to join us for complimentary soup with the purchase of a tasting or a glass of wine.
LOCATION:Hightower Creek Vineyards
UID:e.256.33600
SEQUENCE:3
DTSTAMP:20260424T003017Z
URL:https://members.visitblairsvillega.com/events/details/soup-saturday-01-03-2015-33600
END:VEVENT

END:VCALENDAR
