BEGIN:VCALENDAR
VERSION:2.0
PRODID:-//ChamberMaster//Event Calendar 2.0//EN
METHOD:PUBLISH
X-PUBLISHED-TTL:P3D
REFRESH-INTERVAL:P3D
CALSCALE:GREGORIAN
BEGIN:VEVENT
DTSTART:20160206T170000Z
DTEND:20160206T220000Z
X-MICROSOFT-CDO-ALLDAYEVENT:FALSE
SUMMARY:Soup Saturday at Hightower Creek Vineyards
DESCRIPTION:Come in from the cold and warm up at Hightower Creek! Stop by the tasting room and enjoy a complimentary cup of soup with your tasting\, glass or bottle. Be sure to taste our famous mulled wine and try a cheese sampler from Udderly Cool Dairy in Roopville\, GA.
X-ALT-DESC;FMTTYPE=text/html:<span style="color: rgb(112\, 112\, 112)\; font-family: open sans\; font-size: 14px\;">Come in from the cold and warm up at Hightower Creek! Stop by the tasting room and enjoy a complimentary cup of soup with your tasting\, glass or bottle. Be sure to taste our famous mulled wine and try a cheese sampler from Udderly Cool Dairy in Roopville\, GA.</span>
LOCATION:7150 Canaan Drive Hiawassee\, GA 30546
UID:e.256.48268
SEQUENCE:3
DTSTAMP:20260421T040309Z
URL:https://members.visitblairsvillega.com/events/details/soup-saturday-at-hightower-creek-vineyards-02-06-2016-48268
END:VEVENT

END:VCALENDAR
