BEGIN:VCALENDAR
VERSION:2.0
PRODID:-//ChamberMaster//Event Calendar 2.0//EN
METHOD:PUBLISH
X-PUBLISHED-TTL:P3D
REFRESH-INTERVAL:P3D
CALSCALE:GREGORIAN
BEGIN:VEVENT
DTSTART:20141220T170000Z
DTEND:20141220T230000Z
X-MICROSOFT-CDO-ALLDAYEVENT:FALSE
SUMMARY:Soup Saturday at Hightower Creek Vineyards
DESCRIPTION:December 20\, 2014:  Soup Saturday!  Complimentary soup from 12-6pm with the purchase of a tasting or a glass of wine. Mulled wine and artisan cheeses will also be available.
X-ALT-DESC;FMTTYPE=text/html:<p><u>December 20\, 2014: &nbsp\;</u><span style="font-family: cambria\; font-size: 14px\;">Soup Saturday! &nbsp\;</span><span style="font-family: cambria\; font-size: 14px\;">Complimentary soup from 12-6pm with the purchase of a tasting or a glass of wine.</span><span style="font-family: cambria\; font-size: 14px\;">&nbsp\;Mulled wine</span><span style="font-family: cambria\; font-size: 14px\;">&nbsp\;and artisan cheeses</span><span style="font-family: cambria\; font-size: 14px\;">&nbsp\;will also be available.</span></p>\n\n<div>&nbsp\;</div>\n
LOCATION:7150 Canaan Drive Hiawassee\, GA 30546
UID:e.256.28074
SEQUENCE:3
DTSTAMP:20260424T033831Z
URL:https://members.visitblairsvillega.com/events/details/soup-saturday-at-hightower-creek-vineyards-12-20-2014-28074
END:VEVENT

END:VCALENDAR
