BEGIN:VCALENDAR
VERSION:2.0
PRODID:-//ChamberMaster//Event Calendar 2.0//EN
METHOD:PUBLISH
X-PUBLISHED-TTL:P3D
REFRESH-INTERVAL:P3D
CALSCALE:GREGORIAN
BEGIN:VEVENT
DTSTART:20140301T170000Z
DTEND:20140301T220000Z
X-MICROSOFT-CDO-ALLDAYEVENT:FALSE
SUMMARY:Soup Saturday at Hightower Creek Vineyards\, LLC
DESCRIPTION:It's Soup Saturday at Hightower Creek Vineyards! Come by for some delicious hot soup! It's complimentary with the purchase of a wine tasting or glass/bottle of wine.
X-ALT-DESC;FMTTYPE=text/html:It&#39\;s Soup Saturday at Hightower Creek Vineyards! Come by for some delicious hot soup! It&#39\;s complimentary with the purchase of&nbsp\;a wine tasting or glass/bottle of wine.<br />\n&nbsp\;
LOCATION:7150 Canaan Drive (10 miles east of Hiawassee) on Highway 76.
UID:e.256.23244
SEQUENCE:3
DTSTAMP:20260424T153053Z
URL:https://members.visitblairsvillega.com/events/details/soup-saturday-at-hightower-creek-vineyards-llc-03-01-2014-23244
END:VEVENT

END:VCALENDAR
