BEGIN:VCALENDAR
VERSION:2.0
PRODID:-//ChamberMaster//Event Calendar 2.0//EN
METHOD:PUBLISH
X-PUBLISHED-TTL:P3D
REFRESH-INTERVAL:P3D
CALSCALE:GREGORIAN
BEGIN:VEVENT
DTSTART:20140308T170000Z
DTEND:20140308T220000Z
X-MICROSOFT-CDO-ALLDAYEVENT:FALSE
SUMMARY:Soup Saturday at Hightower Creek Vineyards\, LLC
DESCRIPTION:Soup Saturday continues at Hightower Creek Vineyards. Come by for some complimentary delicious and hot soup with the purchase of a wine tasting or a glass/bottle of our award winning wine!
X-ALT-DESC;FMTTYPE=text/html:<br />\nSoup Saturday continues at Hightower Creek Vineyards. Come by for some complimentary delicious and hot soup with the purchase of a wine tasting or a glass/bottle of our award winning wine!
LOCATION:7150 Canaan Drive Hiawassee\, GA 30546 (10 miles east of Hiawassee on Hwy 76)
UID:e.256.23245
SEQUENCE:3
DTSTAMP:20260424T153226Z
URL:https://members.visitblairsvillega.com/events/details/soup-saturday-at-hightower-creek-vineyards-llc-03-08-2014-23245
END:VEVENT

END:VCALENDAR
