BEGIN:VCALENDAR
VERSION:2.0
PRODID:-//ChamberMaster//Event Calendar 2.0//EN
METHOD:PUBLISH
X-PUBLISHED-TTL:P3D
REFRESH-INTERVAL:P3D
CALSCALE:GREGORIAN
BEGIN:VEVENT
DTSTART:20170304T170000Z
DTEND:20170304T220000Z
X-MICROSOFT-CDO-ALLDAYEVENT:FALSE
SUMMARY:Soup Saturdays at Hightower Creek Vineyards
DESCRIPTION:Enjoy a different complementary cup of Sanford's delicious homemade soup with any tasting or purchase every Saturday through March 11th! You won't want to miss this treat only available during our winter months!
X-ALT-DESC;FMTTYPE=text/html:Enjoy a different complementary cup of Sanford&#39\;s delicious homemade soup with any tasting or purchase every Saturday through March 11th! You won&#39\;t want to miss this treat only available during our winter months!&nbsp\;
LOCATION:7150 Canaan Drive Hiawassee\, GA 30546
UID:e.256.64124
SEQUENCE:3
DTSTAMP:20260420T042842Z
URL:https://members.visitblairsvillega.com/events/details/soup-saturdays-at-hightower-creek-vineyards-03-04-2017-64124
END:VEVENT

END:VCALENDAR
