BEGIN:VCALENDAR
VERSION:2.0
PRODID:-//ChamberMaster//Event Calendar 2.0//EN
METHOD:PUBLISH
X-PUBLISHED-TTL:P3D
REFRESH-INTERVAL:P3D
CALSCALE:GREGORIAN
BEGIN:VEVENT
DTSTART:20160312T170000Z
DTEND:20160312T220000Z
X-MICROSOFT-CDO-ALLDAYEVENT:FALSE
SUMMARY:Soup Saturdays at Hightower Creek Vineyards
DESCRIPTION:Join us every Saturday for a different homemade complimentary soup with the purchase of a tasting or glass of wine!
X-ALT-DESC;FMTTYPE=text/html:<span style="color: rgb(0\, 0\, 0)\; font-family: arial\,sans-serif\;">Join us every Saturday for a different homemade complimentary soup with the purchase of a tasting or glass of wine!</span>
LOCATION:7150 Canaan Drive Hiawassee\, GA 30546
UID:e.256.49616
SEQUENCE:3
DTSTAMP:20260421T040251Z
URL:https://members.visitblairsvillega.com/events/details/soup-saturdays-at-hightower-creek-vineyards-03-12-2016-49616
END:VEVENT

END:VCALENDAR
