BEGIN:VCALENDAR
VERSION:2.0
PRODID:-//ChamberMaster//Event Calendar 2.0//EN
METHOD:PUBLISH
X-PUBLISHED-TTL:P3D
REFRESH-INTERVAL:P3D
CALSCALE:GREGORIAN
BEGIN:VEVENT
DTSTART:20150713T140000Z
DTEND:20150713T153000Z
X-MICROSOFT-CDO-ALLDAYEVENT:FALSE
SUMMARY:South Pacific Wonders Travel Presentation
DESCRIPTION:You are invited to a special travel informational presentation for our next community trip to the South Pacific! This 15 day trip will be on March 1-15\, 2016. Come and discover the opportunity to go on this amazing trip!
X-ALT-DESC;FMTTYPE=text/html:You are invited to a special travel informational presentation for our next community trip to the South Pacific! This 15 day trip will be on March 1-15\, 2016. Come and discover the opportunity to go on this amazing trip!
LOCATION:Union County Community Center 129 Union County Rec. Rd. Blairsville\, GA
UID:e.256.40422
SEQUENCE:3
DTSTAMP:20260423T151425Z
URL:https://members.visitblairsvillega.com/events/details/south-pacific-wonders-travel-presentation-07-13-2015-40422
END:VEVENT

END:VCALENDAR
