BEGIN:VCALENDAR
VERSION:2.0
PRODID:-//ChamberMaster//Event Calendar 2.0//EN
METHOD:PUBLISH
X-PUBLISHED-TTL:P3D
REFRESH-INTERVAL:P3D
CALSCALE:GREGORIAN
BEGIN:VEVENT
DTSTART:20151027T140000Z
DTEND:20151027T220000Z
X-MICROSOFT-CDO-ALLDAYEVENT:FALSE
SUMMARY:Southern Appalachian Artists Guild National Juried Show
DESCRIPTION:Join us for 6th Annual Southern Appalachian Artist Guild National Juried Show. This show brings in a variety of artists from across the nation to The Art Center.  $5000 in cash prize money will awarded to the winners.  Opening reception is October 17\, 5-7pm.  Submission deadline is July 1\, 2015\n\n Closed on Mondays.
X-ALT-DESC;FMTTYPE=text/html:<span style="font-size: 12pt\;"><span style="font-family: adobe caslon pro bold\,serif\;">Join us for 6th Annual Southern Appalachian Artist Guild National Juried Show. This show brings in a variety of artists from across the nation to The Art Center.&nbsp\; $5000 in cash prize money will awarded to the winners.&nbsp\; Opening reception is October 17\, 5-7pm.&nbsp\; Submission deadline is July 1\, 2015</span></span><br />\n&nbsp\;Closed on Mondays.
LOCATION:The Art Center (Blue Ridge Mountains Arts Association) 420 West Main Street Blue Ridge\, GA 30513
UID:e.256.39708
SEQUENCE:3
DTSTAMP:20260423T103911Z
URL:https://members.visitblairsvillega.com/events/details/southern-appalachian-artists-guild-national-juried-show-10-27-2015-39708
END:VEVENT

END:VCALENDAR
