BEGIN:VCALENDAR
VERSION:2.0
PRODID:-//ChamberMaster//Event Calendar 2.0//EN
METHOD:PUBLISH
X-PUBLISHED-TTL:P3D
REFRESH-INTERVAL:P3D
CALSCALE:GREGORIAN
BEGIN:VEVENT
DTSTART:20140426T233000Z
DTEND:20140427T020000Z
X-MICROSOFT-CDO-ALLDAYEVENT:FALSE
SUMMARY:Southern Fried Chicks
DESCRIPTION:The Southern Fried Chicks have busted out of the hen house for a night on the town with their new show\, the "Cage-Free Comedy Tour!" Join the Chicks for a night of free-range comedy starring Etta May\, Sonya White\, Karen Mills and Style Network's Trish Suhr. Get to know the Chicks like never before! The new Cage-Free Comedy Tour features new stories\, music audience participation\, dancing and a multimedia show you are sure to enjoy. Since the debut of their one-hour comedy special on CMT\, this top-grossing all female comedy tour has played to venues packed with people and laughter. Life and love in the USA has never been funnier as when these top headliners take the stage. Think Blue Collar Comedy Tour with better hair and bigger attitude!
X-ALT-DESC;FMTTYPE=text/html:The Southern Fried Chicks have busted out of the hen house for a night on the town with their new show\, the &quot\;Cage-Free Comedy Tour!&quot\; Join the Chicks for a night of free-range comedy starring Etta May\, Sonya White\, Karen Mills and Style Network&#39\;s Trish Suhr. Get to know the Chicks like never before! The new Cage-Free Comedy Tour features new stories\, music audience participation\, dancing and a multimedia show you are sure to enjoy. Since the debut of their one-hour comedy special on CMT\, this top-grossing all female comedy tour has played to venues packed with people and laughter. Life and love in the USA has never been funnier as when these top headliners take the stage. Think Blue Collar Comedy Tour with better hair and bigger attitude!
LOCATION:Venue: The Smoky Mountain Center for the Performing Arts Venue Address & Contact Info: Mailing Address: Smoky Mountain Center for the Performing Arts 1028 Georgia Road Franklin\, NC 28734
UID:e.256.24227
SEQUENCE:3
DTSTAMP:20260424T133302Z
URL:https://members.visitblairsvillega.com/events/details/southern-fried-chicks-04-26-2014-24227
END:VEVENT

END:VCALENDAR
