BEGIN:VCALENDAR
VERSION:2.0
PRODID:-//ChamberMaster//Event Calendar 2.0//EN
METHOD:PUBLISH
X-PUBLISHED-TTL:P3D
REFRESH-INTERVAL:P3D
CALSCALE:GREGORIAN
BEGIN:VEVENT
DTSTART:20160717T190000Z
DTEND:20160717T210000Z
X-MICROSOFT-CDO-ALLDAYEVENT:FALSE
SUMMARY:Southern Gospel Concert - The Perry's
DESCRIPTION:National Southern Gospel Recording Artists\, The Perry's will be in concert at First United Methodist of Union County.
X-ALT-DESC;FMTTYPE=text/html:National Southern Gospel Recording Artists\, The Perry&#39\;s will be in concert at First United Methodist of Union County.
LOCATION:First United Methodist of Union County 938 Hwy 515 Blairsville\, Ga
UID:e.256.51054
SEQUENCE:3
DTSTAMP:20260420T203342Z
URL:https://members.visitblairsvillega.com/events/details/southern-gospel-concert-the-perry-s-07-17-2016-51054
END:VEVENT

END:VCALENDAR
