BEGIN:VCALENDAR
VERSION:2.0
PRODID:-//ChamberMaster//Event Calendar 2.0//EN
METHOD:PUBLISH
X-PUBLISHED-TTL:P3D
REFRESH-INTERVAL:P3D
CALSCALE:GREGORIAN
BEGIN:VEVENT
DTSTART:20171216T170000Z
DTEND:20171216T210000Z
X-MICROSOFT-CDO-ALLDAYEVENT:FALSE
SUMMARY:SPA-Riffic Holiday Pampering Event\,
DESCRIPTION:Stop by anytime between Noon-4p.m.to take a well-deserved break! Enjoy Aromatherapy & Relaxing Essential Oils with NYR Organics & Pamper your skin with a MaryKay Facial & beautiful new holiday look and treat yourself to a chair massage to leave totally relaxed and ready to finish your "to-do list!! Gift ideas & Special Savings with free gift wrapping will be available!
X-ALT-DESC;FMTTYPE=text/html:<span style="font-family:comic sans ms"><span style="font-size:14px">Stop by anytime between Noon-4p.m.to take a well-deserved break! Enjoy Aromatherapy &amp\; Relaxing Essential Oils with NYR Organics &amp\; Pamper your skin with a MaryKay Facial &amp\; beautiful new holiday look and treat yourself to a chair massage to leave totally relaxed and ready to finish your &quot\;to-do list!! Gift ideas &amp\; Special Savings with free gift wrapping will be available!</span></span>
LOCATION:Rustic Mountain Decor 294 Hwy. 515 - Suite A\, Blairsville
UID:e.256.77072
SEQUENCE:3
DTSTAMP:20260419T121014Z
URL:https://members.visitblairsvillega.com/events/details/spa-riffic-holiday-pampering-event-77072
END:VEVENT

END:VCALENDAR
