BEGIN:VCALENDAR
VERSION:2.0
PRODID:-//ChamberMaster//Event Calendar 2.0//EN
METHOD:PUBLISH
X-PUBLISHED-TTL:P3D
REFRESH-INTERVAL:P3D
CALSCALE:GREGORIAN
BEGIN:VEVENT
DTSTART:20150126T210000Z
DTEND:20150127T004500Z
X-MICROSOFT-CDO-ALLDAYEVENT:FALSE
SUMMARY:Spaghetti Dinner Fundraiser for Tricia Spear
DESCRIPTION:Come out for a spaghetti dinner to help raise funds for Tricia Spear's medical expenses. Dinner will consist of a spaghetti dinner with a choice of traditional Italian style\, gluten free\, or vegan. It will also include salad\, garlic toast or bread stick\, cake\, tea or coffee.
X-ALT-DESC;FMTTYPE=text/html:Come out for a spaghetti dinner to help raise funds for Tricia Spear&#39\;s medical expenses. Dinner will consist of a spaghetti dinner with a choice of traditional Italian style\, gluten free\, or vegan. It will also include salad\, garlic toast or bread stick\, cake\, tea or coffee.<br />\n&nbsp\;
LOCATION:Butternut Creek Community Center 129 Union County Rec. Rd.
UID:e.256.34659
SEQUENCE:3
DTSTAMP:20260424T003055Z
URL:https://members.visitblairsvillega.com/events/details/spaghetti-dinner-fundraiser-for-tricia-spear-01-26-2015-34659
END:VEVENT

END:VCALENDAR
