BEGIN:VCALENDAR
VERSION:2.0
PRODID:-//ChamberMaster//Event Calendar 2.0//EN
METHOD:PUBLISH
X-PUBLISHED-TTL:P3D
REFRESH-INTERVAL:P3D
CALSCALE:GREGORIAN
BEGIN:VEVENT
DTSTART:20150623T153000Z
DTEND:20150623T230000Z
X-MICROSOFT-CDO-ALLDAYEVENT:FALSE
SUMMARY:Spaghetti Lunch & Dinner Fundraiser for Cynthia Kelly
DESCRIPTION:Cynthia was diagnosed in late March of 2015 with a Chordoma Brain Tumor. It is malignant but does not metastasize.She is post op awaiting Proton Radiation.\n\nRaffle Tickets May Be Purchased at the entrance to GnG in Blairsville on Fridays and Saturdays from 8am - 10am. (on May 15/16\, 22/23\, 30/31) for the raffling of prizes the night of the dinner\, June 23 in The Brackett Room..\n\n~~$5 gets 6\, $10 gets 12 and $20 gets 25 (more than $20? we'll talk)~~ Donations outside of raffle tickets will also get chances.
X-ALT-DESC;FMTTYPE=text/html:<p style="margin-top: 0px\; margin-right: 0px\; margin-bottom: 6px\; margin-left: 0px\; display: block\; "><span style="font-size:12px\;"><span style="font-family:comic sans ms\;"><span style="border-collapse: separate\; font-style: normal\; font-variant: normal\; font-weight: normal\; letter-spacing: normal\; line-height: normal\; orphans: 2\; text-indent: 0px\; text-transform: none\; white-space: normal\; widows: 2\; word-spacing: 0px\; font-size: medium\;"><span style="font-size: 14px\; line-height: 19px\; text-align: left\;"><span style="border-collapse: separate\; font-style: normal\; font-variant: normal\; font-weight: normal\; letter-spacing: normal\; line-height: normal\; orphans: 2\; text-indent: 0px\; text-transform: none\; white-space: normal\; widows: 2\; word-spacing: 0px\; font-size: medium\;"><span style="font-size: 12px\; line-height: 16px\; text-align: left\;">Cynthia was diagnosed in late March of 2015 with a Chordoma Brain Tumor. It is malignant but does not metastasize.She is post op awaiting Proton Radiation.</span></span></span></span></span><br />\n<span style="font-family: comic sans ms\;"><span style="border-collapse: separate\; font-style: normal\; font-variant: normal\; font-weight: normal\; letter-spacing: normal\; line-height: normal\; orphans: 2\; text-indent: 0px\; text-transform: none\; white-space: normal\; widows: 2\; word-spacing: 0px\;"><span style="line-height: 19px\; text-align: left\;">Raffle Tickets May Be Purchased at the entrance to GnG in Blairsville on Fridays and Saturdays from 8am - 10am. (on May 15/16\, 22/23\, 30/31) for the raffling of prizes the night of the dinner\, June 23 in The Brackett Room..</span></span></span></span></p>\n\n<p style="margin-top: 6px\; margin-right: 0px\; margin-bottom: 6px\; margin-left: 0px\; display: block\; "><span style="font-size:12px\;"><span style="font-family: comic sans ms\;"><span style="border-collapse: separate\; font-style: normal\; font-variant: normal\; font-weight: normal\; letter-spacing: normal\; line-height: normal\; orphans: 2\; text-indent: 0px\; text-transform: none\; white-space: normal\; widows: 2\; word-spacing: 0px\;"><span style="line-height: 19px\; text-align: left\;">~~$5 gets 6\, $10 gets 12 and $20 gets 25 (more than $20? we&#39\;ll talk)~~ Donations outside of raffle tickets will also get chances.</span></span></span></span></p>\n
LOCATION:United Community Bank Brackett's Room
UID:e.256.40283
SEQUENCE:3
DTSTAMP:20260423T165619Z
URL:https://members.visitblairsvillega.com/events/details/spaghetti-lunch-dinner-fundraiser-for-cynthia-kelly-06-23-2015-40283
END:VEVENT

END:VCALENDAR
