BEGIN:VCALENDAR
VERSION:2.0
PRODID:-//ChamberMaster//Event Calendar 2.0//EN
METHOD:PUBLISH
X-PUBLISHED-TTL:P3D
REFRESH-INTERVAL:P3D
CALSCALE:GREGORIAN
BEGIN:VEVENT
DTSTART;VALUE=DATE:20160703
DTEND;VALUE=DATE:20160704
TRANSP:TRANSPARENT
X-MICROSOFT-CDO-ALLDAYEVENT:TRUE
SUMMARY:Sparky's Cycle Ranch
DESCRIPTION:Fly Racing MXGP
X-ALT-DESC;FMTTYPE=text/html:Fly Racing MXGP
LOCATION:Sparky's Cycle Ranch 729 Ivy Log Road Blairsville\, GA
UID:e.256.53291
SEQUENCE:3
DTSTAMP:20260420T183616Z
URL:https://members.visitblairsvillega.com/events/details/sparky-s-cycle-ranch-07-03-2016-53291
END:VEVENT

END:VCALENDAR
