BEGIN:VCALENDAR
VERSION:2.0
PRODID:-//ChamberMaster//Event Calendar 2.0//EN
METHOD:PUBLISH
X-PUBLISHED-TTL:P3D
REFRESH-INTERVAL:P3D
CALSCALE:GREGORIAN
BEGIN:VEVENT
DTSTART:20141011T113000Z
DTEND:20141011T160000Z
X-MICROSOFT-CDO-ALLDAYEVENT:FALSE
SUMMARY:Sparky's Cycle Ranch MXGP
DESCRIPTION:Motocross race. Suitable for all skill levels.
X-ALT-DESC;FMTTYPE=text/html:Motocross race. Suitable for all skill levels.
LOCATION:729 Ivy Log Rd. Blairsville
UID:e.256.27480
SEQUENCE:3
DTSTAMP:20260424T061229Z
URL:https://members.visitblairsvillega.com/events/details/sparky-s-cycle-ranch-mxgp-10-11-2014-27480
END:VEVENT

END:VCALENDAR
