BEGIN:VCALENDAR
VERSION:2.0
PRODID:-//ChamberMaster//Event Calendar 2.0//EN
METHOD:PUBLISH
X-PUBLISHED-TTL:P3D
REFRESH-INTERVAL:P3D
CALSCALE:GREGORIAN
BEGIN:VEVENT
DTSTART:20141213T000000Z
DTEND:20141213T010000Z
X-MICROSOFT-CDO-ALLDAYEVENT:FALSE
SUMMARY:Special Christmas Concert
DESCRIPTION:The Holiday season is upon us.\n\nW. Gordon Graff will be performing "Christmas Favorites Meet Broadway" this Friday\, December 12th\, at 7pm\, in the Old Courthouse on the square. This is the final concert of the 2014 Friday night concert series. So why not join us for this "special holiday" performance.
X-ALT-DESC;FMTTYPE=text/html:<span style="font-size: 12px\;"><strong><span style="font-family: helvetica\,sans-serif\;"><span style="color: rgb(96\, 191\, 0)\;">The Holiday season is upon us.</span></span></strong><br />\n<strong><span style="font-family: helvetica\,sans-serif\;"><span style="color: rgb(96\, 191\, 0)\;">W. Gordon Graff will be performing &quot\;Christmas Favorites Meet Broadway&quot\; this Friday\, December 12th\, at 7pm\, </span></span></strong><strong><span style="font-family: helvetica\,sans-serif\;"><span style="color: rgb(96\, 191\, 0)\;">in the Old Courthouse on the square. This is the final concert of the 2014 Friday night concert series. So why not </span></span></strong><strong><span style="font-family: helvetica\,sans-serif\;"><span style="color: rgb(96\, 191\, 0)\;">join us for this &quot\;special holiday&quot\; performance. </span></span></strong></span><br />\n&nbsp\;
LOCATION:Union County Historical Courthouse\, downtown on the square Blairsville
UID:e.256.27781
SEQUENCE:3
DTSTAMP:20260424T020304Z
URL:https://members.visitblairsvillega.com/events/details/special-christmas-concert-12-12-2014-27781
END:VEVENT

END:VCALENDAR
