BEGIN:VCALENDAR
VERSION:2.0
PRODID:-//ChamberMaster//Event Calendar 2.0//EN
METHOD:PUBLISH
X-PUBLISHED-TTL:P3D
REFRESH-INTERVAL:P3D
CALSCALE:GREGORIAN
BEGIN:VEVENT
DTSTART:20160617T230000Z
DTEND:20160618T000000Z
X-MICROSOFT-CDO-ALLDAYEVENT:FALSE
SUMMARY:Special Prayer Service for Victims of the Orlando Shooting
DESCRIPTION:In response to the horrific events of this past Sunday in Orlando\, St. Clare's will hold a special service of prayer this coming Friday\, June 17th at 7:00 pm. We hope that everyone in the community will join us. Please spread the word.
X-ALT-DESC;FMTTYPE=text/html:<span style="color:rgb(75\, 79\, 86)\; font-family:helvetica\,arial\,sans-serif\; font-size:14px">In response to the horrific events of this past Sunday in Orlando\, St. Clare&#39\;s will hold a special service of prayer this coming Friday\, June 17th at 7:00 pm. We hope that everyone in the community will join us. Please spread the word.</span>
LOCATION:St. Clare's Episcopal Church 777 Ledford Rd Blairsville\, GA 30512
UID:e.256.53013
SEQUENCE:3
DTSTAMP:20260420T204641Z
URL:https://members.visitblairsvillega.com/events/details/special-prayer-service-for-victims-of-the-orlando-shooting-06-17-2016-53013
END:VEVENT

END:VCALENDAR
