BEGIN:VCALENDAR
VERSION:2.0
PRODID:-//ChamberMaster//Event Calendar 2.0//EN
METHOD:PUBLISH
X-PUBLISHED-TTL:P3D
REFRESH-INTERVAL:P3D
CALSCALE:GREGORIAN
BEGIN:VEVENT
DTSTART:20150910T230000Z
DTEND:20150911T035500Z
X-MICROSOFT-CDO-ALLDAYEVENT:FALSE
SUMMARY:Spice Up Your Marriage Date Night
DESCRIPTION:Heart for Families is hosting a three-hour date-night event featuring nationally-known individuals to encourage marriages. Beginning with a time of praise and worship lead by Michael O'Brien\, former lead singer of Newsong\, and continuing with the teachings of Dr. Gary Chapman\, author of the top selling book\, "The Five Love Languages\," this relationship event will offer practical applications based on life experiences by showing simple and easy ways to communicate love. In addition to Dr. Chapman\, Jeff and Debbie McElroy will share their heart for families through humor and words of wisdom they have gained during the last 25 years of speaking to audiences across the USA.
X-ALT-DESC;FMTTYPE=text/html:Heart for Families is hosting a three-hour date-night event featuring nationally-known individuals to encourage marriages. Beginning with a time of praise and worship lead by Michael O&#39\;Brien\, former lead singer of Newsong\, and continuing with the teachings of Dr. Gary Chapman\, author of the top selling book\, &quot\;The Five Love Languages\,&quot\; this relationship event will offer practical applications based on life experiences by showing simple and easy ways to communicate love. In addition to Dr. Chapman\, Jeff and Debbie McElroy will share their heart for families through humor and words of wisdom they have gained during the last 25 years of speaking to audiences across the USA.
LOCATION:Smoky Mountain Center for the Performing Arts 1028 Georgia Rd Franklin\, NC 28734
UID:e.256.41326
SEQUENCE:3
DTSTAMP:20260423T134120Z
URL:https://members.visitblairsvillega.com/events/details/spice-up-your-marriage-date-night-09-10-2015-41326
END:VEVENT

END:VCALENDAR
