BEGIN:VCALENDAR
VERSION:2.0
PRODID:-//ChamberMaster//Event Calendar 2.0//EN
METHOD:PUBLISH
X-PUBLISHED-TTL:P3D
REFRESH-INTERVAL:P3D
CALSCALE:GREGORIAN
BEGIN:VEVENT
DTSTART:20140510T150000Z
DTEND:20140510T190000Z
X-MICROSOFT-CDO-ALLDAYEVENT:FALSE
SUMMARY:Spinning The Old Fashioned Way
DESCRIPTION:Spinning The Old Fashioned Way\n\nThe mother of mountain poet Byron Herbert Reece spun thread to make clothing for the family and spinning is the subject of one his most powerful parables. The art of spinning has been retained in Appalachia. Come see Cathryn Washell demonstrate this craft. If you like\, you may want to try it yourself!\n\nwww.ByronHerbertReeceSociety.org
X-ALT-DESC;FMTTYPE=text/html:<strong>Spinning The Old Fashioned Way</strong><br />\nThe mother of mountain poet Byron Herbert Reece spun thread to make clothing for the family and spinning is the subject of one his most powerful parables. The art of spinning has been retained in Appalachia. Come see Cathryn Washell demonstrate this craft. If you like\, you may want to try it yourself!<br />\nwww.ByronHerbertReeceSociety.org
LOCATION:Byron Herbert Reece Farm & Heritage Center 8552 Gainesville Highway ( U.S. Hwy 19/129S ) Blairsville\, GA
UID:e.256.24295
SEQUENCE:3
DTSTAMP:20260424T121306Z
URL:https://members.visitblairsvillega.com/events/details/spinning-the-old-fashioned-way-05-10-2014-24295
END:VEVENT

END:VCALENDAR
