BEGIN:VCALENDAR
VERSION:2.0
PRODID:-//ChamberMaster//Event Calendar 2.0//EN
METHOD:PUBLISH
X-PUBLISHED-TTL:P3D
REFRESH-INTERVAL:P3D
CALSCALE:GREGORIAN
BEGIN:VEVENT
DTSTART:20160316T210000Z
DTEND:20160317T000000Z
X-MICROSOFT-CDO-ALLDAYEVENT:FALSE
SUMMARY:Spirit Night at Chick-fil-A
DESCRIPTION:S.A.F.E. (Support in Abusive Family Emergencies)\n\nAll Spirit Nights will feature the Chick-fil-A cow and Chick-fil-A will donate a percentage of all supported sales to the organization. (This means that the guest must mention they are here to support the organization before they order their meal).
X-ALT-DESC;FMTTYPE=text/html:<span style="font-family: &quot\;Times New Roman&quot\;\,&quot\;serif&quot\;\; font-size: 12pt\; mso-fareast-font-family: Calibri\; mso-fareast-theme-font: minor-latin\; mso-ansi-language: EN-US\; mso-fareast-language: EN-US\; mso-bidi-language: AR-SA\;"><font color="#000000">S.A.F.E. (Support in Abusive Family Emergencies)</font></span><br />\n<span style="font-size: medium\;"><span style="font-family: times new roman\;">All Spirit Nights will feature the Chick-fil-A cow and Chick-fil-A will donate a percentage of all supported sales to the organization. (This means that the guest must mention they are here to support the organization before they order their meal).</span></span><br />\n&nbsp\;
LOCATION:Chick-fil-A in Blairsville. Across from Ingles on Hwy 515.
UID:e.256.49610
SEQUENCE:3
DTSTAMP:20260421T022316Z
URL:https://members.visitblairsvillega.com/events/details/spirit-night-at-chick-fil-a-03-16-2016-49610
END:VEVENT

END:VCALENDAR
