BEGIN:VCALENDAR
VERSION:2.0
PRODID:-//ChamberMaster//Event Calendar 2.0//EN
METHOD:PUBLISH
X-PUBLISHED-TTL:P3D
REFRESH-INTERVAL:P3D
CALSCALE:GREGORIAN
BEGIN:VEVENT
DTSTART:20160719T210000Z
DTEND:20160720T000000Z
X-MICROSOFT-CDO-ALLDAYEVENT:FALSE
SUMMARY:Spirit Night at Chick-Fil-A
DESCRIPTION:Spirit Night at Chick-fil-A for the Dennis Woody ALS Benefit. There will be cow appearances and more. Chick-fil-A of Blairsville will donate a percentage of all supported sales to this great cause. We hope to see you there.
X-ALT-DESC;FMTTYPE=text/html:Spirit Night at Chick-fil-A for the <em>Dennis Woody <strong>ALS</strong> Benefit.</em> There will be cow appearances and more. Chick-fil-A of Blairsville will donate a percentage of all supported sales to this great cause. We hope to see you there.
LOCATION:Chick-fil-A of Blairsville.
UID:e.256.53652
SEQUENCE:3
DTSTAMP:20260420T184232Z
URL:https://members.visitblairsvillega.com/events/details/spirit-night-at-chick-fil-a-07-19-2016-53652
END:VEVENT

END:VCALENDAR
