BEGIN:VCALENDAR
VERSION:2.0
PRODID:-//ChamberMaster//Event Calendar 2.0//EN
METHOD:PUBLISH
X-PUBLISHED-TTL:P3D
REFRESH-INTERVAL:P3D
CALSCALE:GREGORIAN
BEGIN:VEVENT
DTSTART:20161004T210000Z
DTEND:20161005T000000Z
X-MICROSOFT-CDO-ALLDAYEVENT:FALSE
SUMMARY:Spirit Night at Chick-fil-A - Adopt a Grandparent
DESCRIPTION:Come out and support Adopt a Grandparent at Spirit Night!  There will be cow appearances and more! Chick-fil-A Blairsville will donate a percentage of the supported sales.
X-ALT-DESC;FMTTYPE=text/html:Come out and support Adopt a Grandparent at Spirit Night! &nbsp\;There will be cow appearances and more! Chick-fil-A Blairsville will donate a percentage of the supported sales.
LOCATION:Chick-fil-A Blairsville at 152 Highway 515E\, Blairsville\, Georgia
UID:e.256.59224
SEQUENCE:3
DTSTAMP:20260420T131644Z
URL:https://members.visitblairsvillega.com/events/details/spirit-night-at-chick-fil-a-adopt-a-grandparent-59224
END:VEVENT

END:VCALENDAR
