BEGIN:VCALENDAR
VERSION:2.0
PRODID:-//ChamberMaster//Event Calendar 2.0//EN
METHOD:PUBLISH
X-PUBLISHED-TTL:P3D
REFRESH-INTERVAL:P3D
CALSCALE:GREGORIAN
BEGIN:VEVENT
DTSTART;VALUE=DATE:20150407
DTEND;VALUE=DATE:20150408
TRANSP:TRANSPARENT
X-MICROSOFT-CDO-ALLDAYEVENT:TRUE
SUMMARY:Spring Art Gallery Exhibit
DESCRIPTION:The Mountain Arts Association along with Brasstown Valley Resort & spa invites you to visit our newest Art Exhibit Titled Colors of Spring This exhibit will feature 22 area member artist with over 40 pieces of art ranging from Oil\, Acrylic\, Watercolor\, Pastel\, Charcoal and Photography. All of the art work in the gallery is available for purchase The Opening reception will be held Friday April 3rd from 5:30pm until 6:30pm at the Gallery. The Brasstown Valley Resort Art Gallery is located on the Club level of the main resort building There is No Charge to attend The Gallery is open to the public 24/7
X-ALT-DESC;FMTTYPE=text/html:The Mountain Arts Association along with Brasstown Valley Resort &amp\; spa invites you to visit our newest Art Exhibit Titled Colors of Spring This exhibit will feature 22 area member artist with over 40 pieces of art ranging from Oil\, Acrylic\, Watercolor\, Pastel\, Charcoal and Photography. All of the art work in the gallery is available for purchase The Opening reception will be held Friday April 3rd from 5:30pm until 6:30pm at the Gallery. The Brasstown Valley Resort Art Gallery is located on the Club level of the main resort building There is No Charge to attend The Gallery is open to the public 24/7
LOCATION:Brasstown Valley Resort & Spa Young Harris GA
UID:e.256.37791
SEQUENCE:3
DTSTAMP:20260423T211713Z
URL:https://members.visitblairsvillega.com/events/details/spring-art-gallery-exhibit-04-07-2015-37791
END:VEVENT

END:VCALENDAR
