BEGIN:VCALENDAR
VERSION:2.0
PRODID:-//ChamberMaster//Event Calendar 2.0//EN
METHOD:PUBLISH
X-PUBLISHED-TTL:P3D
REFRESH-INTERVAL:P3D
CALSCALE:GREGORIAN
BEGIN:VEVENT
DTSTART:20170527T140000Z
DTEND:20170527T210000Z
X-MICROSOFT-CDO-ALLDAYEVENT:FALSE
SUMMARY:Spring Arts & Crafts Festival
DESCRIPTION:Artists and craftsmen exhibit on the Square surrounding Union County's Historic Courthouse.   The 2017 Blairsville Arts and Crafts Festival is Blairsville's annual fun filled Memorial Day weekend with over 60 vendors offering a unique blend of hand produced merchandise. The Festival also has ongoing Bluegrass and County Music for your enjoyment throughout the day. Also\, lets not forget the food - hot dogs\, hamburgers\, sausage\, cold drinks and more for your enjoyment\, and local restaurants and retail shops to peruse and pick up that special find. So plan your Memorial Day weekend and visit us in the beautiful North Georgia Mountains and the 2017 Arts and Crafts Festival in downtown Blairsville\, Georgia.
X-ALT-DESC;FMTTYPE=text/html:Artists and craftsmen exhibit on the Square surrounding Union County&#39\;s Historic Courthouse. &nbsp\;&nbsp\;<span style="color: rgb(51\, 51\, 51)\; font-family: sans-serif\, Arial\, Verdana\, &quot\;Trebuchet MS&quot\;\; font-size: 13px\; background-color: rgb(255\, 255\, 255)\;">The 2017 Blairsville Arts and Crafts Festival is&nbsp\;Blairsville&#39\;s annual fun filled Memorial Day weekend with over 60 vendors offering a&nbsp\;unique blend&nbsp\;of hand produced merchandise. The Festival also has ongoing Bluegrass and County Music for your enjoyment throughout the day.&nbsp\;Also\, lets not forget the food&nbsp\;- hot dogs\, hamburgers\, sausage\, cold drinks and more for your enjoyment\, and local&nbsp\;</span>restaurants<span style="color: rgb(51\, 51\, 51)\; font-family: sans-serif\, Arial\, Verdana\, &quot\;Trebuchet MS&quot\;\; font-size: 13px\; background-color: rgb(255\, 255\, 255)\;">&nbsp\;and retail shops to peruse and pick up that special find. So plan your Memorial Day weekend and visit us in the beautiful North Georgia Mountains and the 2017 Arts and Crafts Festival in downtown Blairsville\, Georgia.</span>
LOCATION:Downtown on the Square\, Blairsville
UID:e.256.62186
SEQUENCE:3
DTSTAMP:20260420T010145Z
URL:https://members.visitblairsvillega.com/events/details/spring-arts-crafts-festival-62186
END:VEVENT

END:VCALENDAR
