BEGIN:VCALENDAR
VERSION:2.0
PRODID:-//ChamberMaster//Event Calendar 2.0//EN
METHOD:PUBLISH
X-PUBLISHED-TTL:P3D
REFRESH-INTERVAL:P3D
CALSCALE:GREGORIAN
BEGIN:VEVENT
DTSTART:20160528T140000Z
DTEND:20160528T210000Z
X-MICROSOFT-CDO-ALLDAYEVENT:FALSE
SUMMARY:Spring Arts\, Crafts\, & Music Festival
DESCRIPTION:Artists and craftsmen exhibit on the Square surrounding Union County's Historic Courthouse.  Enjoy a variety of food vendors and musicians playing both inside & outside the old Courthouse.
X-ALT-DESC;FMTTYPE=text/html:Artists and craftsmen exhibit on the Square surrounding Union County&#39\;s Historic Courthouse.&nbsp\; Enjoy a variety of food vendors and musicians playing both inside &amp\; outside the old Courthouse.
LOCATION:Downtown on the Square\, Blairsville
UID:e.256.45181
SEQUENCE:3
DTSTAMP:20260420T223121Z
URL:https://members.visitblairsvillega.com/events/details/spring-arts-crafts-music-festival-05-28-2016-45181
END:VEVENT

END:VCALENDAR
