BEGIN:VCALENDAR
VERSION:2.0
PRODID:-//ChamberMaster//Event Calendar 2.0//EN
METHOD:PUBLISH
X-PUBLISHED-TTL:P3D
REFRESH-INTERVAL:P3D
CALSCALE:GREGORIAN
BEGIN:VEVENT
DTSTART:20150510T140000Z
DTEND:20150510T190000Z
X-MICROSOFT-CDO-ALLDAYEVENT:FALSE
SUMMARY:Spring Arts & Crafts Show
DESCRIPTION:Spring Arts & Craft Show at Brasstown Valley Resort in Young Harris GA Saturday May 9th from 10am until 5pm Sunday May 10th from 10am until 3pm Indoor event \, No charge to attend Juried show featuring the collective creativity of 40 professional craft designers and find artists displaying and selling a wonderful mix of quality contemporary crafts and fine arts
X-ALT-DESC;FMTTYPE=text/html:Spring Arts &amp\; Craft Show at Brasstown Valley Resort in Young Harris GA Saturday May 9th from 10am until 5pm Sunday May 10th from 10am until 3pm Indoor event \, No charge to attend Juried show featuring the collective creativity of 40 professional craft designers and find artists displaying and selling a wonderful mix of quality contemporary crafts and fine arts
LOCATION:Brasstown Valley Resort \, Young Harris GA
UID:e.256.37697
SEQUENCE:3
DTSTAMP:20260423T182141Z
URL:https://members.visitblairsvillega.com/events/details/spring-arts-crafts-show-05-10-2015-37697
END:VEVENT

END:VCALENDAR
