BEGIN:VCALENDAR
VERSION:2.0
PRODID:-//ChamberMaster//Event Calendar 2.0//EN
METHOD:PUBLISH
X-PUBLISHED-TTL:P3D
REFRESH-INTERVAL:P3D
CALSCALE:GREGORIAN
BEGIN:VEVENT
DTSTART:20140524T140000Z
DTEND:20140524T210000Z
X-MICROSOFT-CDO-ALLDAYEVENT:FALSE
SUMMARY:Spring Arts in the Park
DESCRIPTION:Enjoy the 38th annual fine arts and fine crafts festival held in the beautiful Downtown City Park of Blue Ridge\, Georgia during Memorial Day weekend. Admire artwork and enjoy tasty food from over 175 exhibitors and vendors.  Admission fee is $5 for adults.  Children  admitted free.  Proceeds go to the Blue Ridge Mountains Arts Association. **Artist/Food Vendor Entry Deadline: February 21\, 2014**
X-ALT-DESC;FMTTYPE=text/html:<span style="font-size: 12pt\;"><span style="font-family: adobe caslon pro bold\,serif\;"><span style="color: rgb(51\, 51\, 51)\;">Enjoy the 38th annual fine arts and fine crafts festival held in the beautiful Downtown City Park of Blue Ridge\, Georgia during Memorial Day weekend. Admire artwork and enjoy tasty food from over 175 exhibitors and vendors.&nbsp\; Admission fee is $5 for adults.&nbsp\; Children &nbsp\;admitted free.&nbsp\; Proceeds go to the Blue Ridge Mountains Arts Association. **Artist/Food Vendor Entry Deadline: February 21\, 2014**</span></span></span><br />\n<br type="_moz" />\n
LOCATION:Downtown City Park Blue Ridge 420 West Main Street Blue Ridge\, GA 30513
UID:e.256.22142
SEQUENCE:3
DTSTAMP:20260424T122143Z
URL:https://members.visitblairsvillega.com/events/details/spring-arts-in-the-park-05-24-2014-22142
END:VEVENT

END:VCALENDAR
