BEGIN:VCALENDAR
VERSION:2.0
PRODID:-//ChamberMaster//Event Calendar 2.0//EN
METHOD:PUBLISH
X-PUBLISHED-TTL:P3D
REFRESH-INTERVAL:P3D
CALSCALE:GREGORIAN
BEGIN:VEVENT
DTSTART:20170527T140000Z
DTEND:20170527T210000Z
X-MICROSOFT-CDO-ALLDAYEVENT:FALSE
SUMMARY:Spring Arts in the Park
DESCRIPTION:Enjoy the 41st annual Spring Arts in the Park fine arts and fine crafts festival held in the beautiful Downtown City Park of Blue Ridge\, Georgia during Memorial Day weekend. Admire artwork and enjoy tasty food from over 175 juried fine arts and fine crafts exhibitors and food booths. Weekend Admission: adults $5\; children under 12 free.  All proceeds go to benefit the Blue Ridge Mountains Arts Association\, a 501c3 non-profit community arts association.
X-ALT-DESC;FMTTYPE=text/html:<span style="font-size:12pt"><span style="font-family:adobe caslon pro bold\,serif"><span style="color:rgb(51\, 51\, 51)">Enjoy the 41st annual Spring Arts in the Park fine arts and fine crafts festival held in the beautiful Downtown City Park of Blue Ridge\, Georgia during Memorial Day weekend. Admire artwork and enjoy tasty food from over 175 juried fine arts and fine crafts exhibitors and food booths. Weekend Admission: adults $5\; children under 12 free.&nbsp\; All proceeds go to benefit the Blue Ridge Mountains Arts Association\, a 501c3 non-profit community arts association.</span></span></span><br>\n&nbsp\;
LOCATION:Downtown City Park Blue Ridge\, GA 30513
UID:e.256.65460
SEQUENCE:3
DTSTAMP:20260420T005945Z
URL:https://members.visitblairsvillega.com/events/details/spring-arts-in-the-park-65460
END:VEVENT

END:VCALENDAR
