BEGIN:VCALENDAR
VERSION:2.0
PRODID:-//ChamberMaster//Event Calendar 2.0//EN
METHOD:PUBLISH
X-PUBLISHED-TTL:P3D
REFRESH-INTERVAL:P3D
CALSCALE:GREGORIAN
BEGIN:VEVENT
DTSTART:20150425T170000Z
DTEND:20150425T200000Z
X-MICROSOFT-CDO-ALLDAYEVENT:FALSE
SUMMARY:Spring Fling!
DESCRIPTION:Celebrate Spring with friends and family on the grounds of beautiful Brasstown Manor in Hiawassee where live music\, games\, bake sale goodies\, classic cars\, collectibles and even a little health care await your visit. Blood pressure checks will be offered by the good folks at CareSouth. Look for health care samples on site too. There will be many fine things on display and on sale. You will be able to meet local artists and view/buy their work as well. There will be lots of great fun with yummy food\, live music\, and games for all ages.
X-ALT-DESC;FMTTYPE=text/html:Celebrate Spring with friends and family on the grounds of beautiful Brasstown Manor in Hiawassee where live music\, games\, bake sale goodies\, classic cars\, collectibles and even a little health care await your visit. Blood pressure checks will be offered by the good folks at CareSouth. Look for health care samples on site too. There will be many fine things on display and on sale. You will be able to meet local artists and view/buy their work as well. There will be lots of great fun with yummy food\, live music\, and games for all ages.
LOCATION:Brasstown Manor 108 Church St. Hiawassee\, GA 30546
UID:e.256.39919
SEQUENCE:3
DTSTAMP:20260423T200017Z
URL:https://members.visitblairsvillega.com/events/details/spring-fling-04-25-2015-39919
END:VEVENT

END:VCALENDAR
