BEGIN:VCALENDAR
VERSION:2.0
PRODID:-//ChamberMaster//Event Calendar 2.0//EN
METHOD:PUBLISH
X-PUBLISHED-TTL:P3D
REFRESH-INTERVAL:P3D
CALSCALE:GREGORIAN
BEGIN:VEVENT
DTSTART:20150327T130000Z
DTEND:20150328T010000Z
X-MICROSOFT-CDO-ALLDAYEVENT:FALSE
SUMMARY:Spring Hammer-In
DESCRIPTION:Activities include bladesmithing\, hawk forging\, leather crafting and forge building.  Watch\, meet and talk with several talented bladesmiths.  See what it takes to transform old discarded steel scrap metal into functional works of art. Fine craftsmen from several states attend\, some collectors bring their collections to display\, knifemaking supply vendors participate and others come who just like to look and talk knives.   \n\n \n\nThis is a family oriented event open to all with no admission fees\, so come join in the fun!  More info at www.georgiaknifemakersguild.com
X-ALT-DESC;FMTTYPE=text/html:<p style="margin: 0in 0in 0pt\;"><span style="color: rgb(51\, 51\, 51)\; font-family: &quot\;Arial&quot\;\,&quot\;sans-serif&quot\;\; font-size: 10pt\;">Activities include bladesmithing\, hawk forging\, leather crafting and forge building.&nbsp\; Watch\, meet and talk with several talented bladesmiths.&nbsp\; See what it takes to transform old discarded steel scrap metal into functional works of art. Fine craftsmen from several states attend\, some collectors bring their collections to display\, knifemaking supply vendors participate and&nbsp\;others come who&nbsp\;just like to look and talk knives.&nbsp\;&nbsp\;&nbsp\;<o:p></o:p></span></p>\n\n<p style="margin: 0in 0in 0pt\;"><span style="color: rgb(51\, 51\, 51)\; font-family: &quot\;Arial&quot\;\,&quot\;sans-serif&quot\;\; font-size: 10pt\;">&nbsp\;<o:p></o:p></span></p>\n\n<p style="margin: 0in 0in 0pt\;"><span style="color: rgb(51\, 51\, 51)\; font-family: &quot\;Arial&quot\;\,&quot\;sans-serif&quot\;\; font-size: 10pt\;">This is a family oriented event open to all with no admission fees\, so come join in the fun!&nbsp\; More info at </span><a href="http://r20.rs6.net/tn.jsp?e=001wPUMiOY3DHBh9LaEsQiY740eo0dk3ZAAKOIx7yjPIycDhlctXZpOQ_Mjpk14U_1BwTSN-BxUqQLQ8VLb15Za7agi7eU8tonKymXKHtMlaYuHpZ_jsXv4Ul3csYJ_Q2N2" target="_blank"><span style="font-family: &quot\;Arial&quot\;\,&quot\;sans-serif&quot\;\; font-size: 10pt\;"><font color="#0000ff">www.georgiaknifemakersguild.com</font></span></a><span style="color: rgb(51\, 51\, 51)\; font-family: &quot\;Arial&quot\;\,&quot\;sans-serif&quot\;\; font-size: 10pt\;">&nbsp\;<o:p></o:p></span></p>\n
LOCATION:Trackrock Campground & Cabins 141 Trackrock Camp Road
UID:e.256.37711
SEQUENCE:3
DTSTAMP:20260423T211615Z
URL:https://members.visitblairsvillega.com/events/details/spring-hammer-in-03-27-2015-37711
END:VEVENT

END:VCALENDAR
