BEGIN:VCALENDAR
VERSION:2.0
PRODID:-//ChamberMaster//Event Calendar 2.0//EN
METHOD:PUBLISH
X-PUBLISHED-TTL:P3D
REFRESH-INTERVAL:P3D
CALSCALE:GREGORIAN
BEGIN:VEVENT
DTSTART:20140412T140000Z
DTEND:20140412T180000Z
X-MICROSOFT-CDO-ALLDAYEVENT:FALSE
SUMMARY:Spring Pictures
DESCRIPTION:The Enotah Child Advocacy & Family Visitation Center will be taking Spring pictures of kids for donation. S.A.F.E. is the parent company of the ECAFVC and is a non-profit organization.  We'll have MC Photographer there\, along with Spring Props\, and even a LIVE Bunny\, named "OREO"!  For the donation\, we will have send you the 5 x 7 portrait.
X-ALT-DESC;FMTTYPE=text/html:The Enotah Child Advocacy &amp\; Family Visitation Center will be taking Spring pictures of kids for donation. S.A.F.E. is the parent company of the ECAFVC and is a non-profit organization.&nbsp\; We&#39\;ll have MC Photographer there\, along with Spring Props\, and even a LIVE Bunny\, named &quot\;OREO&quot\;!&nbsp\; For the donation\, we will have send you the 5 x 7 portrait.
LOCATION:Haralson Memorial Civic Center 165 Welborn Street Blairsville\, GA
UID:e.256.23624
SEQUENCE:3
DTSTAMP:20260424T133253Z
URL:https://members.visitblairsvillega.com/events/details/spring-pictures-04-12-2014-23624
END:VEVENT

END:VCALENDAR
