BEGIN:VCALENDAR
VERSION:2.0
PRODID:-//ChamberMaster//Event Calendar 2.0//EN
METHOD:PUBLISH
X-PUBLISHED-TTL:P3D
REFRESH-INTERVAL:P3D
CALSCALE:GREGORIAN
BEGIN:VEVENT
DTSTART:20160521T220000Z
DTEND:20160522T010000Z
X-MICROSOFT-CDO-ALLDAYEVENT:FALSE
SUMMARY:Spring Winemaker Dinner at Hightower Creek Vineyards
DESCRIPTION:Come enjoy an evening of delicious foods paired with our new releases. Chef Karl Engelman of Hiawassee's Epic Catering will be presenting a five-course menu of seasonal selections paired with award-winning Hightower Creek wines.\n\nDetails and menu will be posted soon. Only 35 seats available\, so reserve early by emailing info@hightowercreekvineyards.com or contacting the tasting room at 706-896-8963.
X-ALT-DESC;FMTTYPE=text/html:<p>Come enjoy an evening of delicious foods paired with our new releases. Chef Karl Engelman of Hiawassee&rsquo\;s Epic Catering will be presenting a five-course menu of seasonal selections paired with award-winning Hightower Creek wines.</p>\n\n<p>Details and menu will be posted soon. Only 35 seats available\, so reserve early by emailing info@hightowercreekvineyards.com or contacting the tasting room at&nbsp\;<a href="tel:706-896-8963" style="color: rgb(120\, 151\, 65)\; text-decoration: none\; -ms-word-wrap: break-word\; box-sizing: border-box\; background-color: transparent\;">706-896-8963</a>.</p>\n
LOCATION:7150 Canaan Drive Hiawassee\, GA 30546
UID:e.256.51064
SEQUENCE:3
DTSTAMP:20260420T222456Z
URL:https://members.visitblairsvillega.com/events/details/spring-winemaker-dinner-at-hightower-creek-vineyards-05-21-2016-51064
END:VEVENT

END:VCALENDAR
